BEGIN:VCALENDAR
VERSION:2.0
PRODID:-//Barkway Parish Council - ECPv6.15.20//NONSGML v1.0//EN
CALSCALE:GREGORIAN
METHOD:PUBLISH
X-ORIGINAL-URL:https://barkwayparishcouncil.gov.uk
X-WR-CALDESC:Events for Barkway Parish Council
REFRESH-INTERVAL;VALUE=DURATION:PT1H
X-Robots-Tag:noindex
X-PUBLISHED-TTL:PT1H
BEGIN:VTIMEZONE
TZID:Europe/London
BEGIN:DAYLIGHT
TZOFFSETFROM:+0000
TZOFFSETTO:+0100
TZNAME:BST
DTSTART:20250330T010000
END:DAYLIGHT
BEGIN:STANDARD
TZOFFSETFROM:+0100
TZOFFSETTO:+0000
TZNAME:GMT
DTSTART:20251026T010000
END:STANDARD
BEGIN:DAYLIGHT
TZOFFSETFROM:+0000
TZOFFSETTO:+0100
TZNAME:BST
DTSTART:20260329T010000
END:DAYLIGHT
BEGIN:STANDARD
TZOFFSETFROM:+0100
TZOFFSETTO:+0000
TZNAME:GMT
DTSTART:20261025T010000
END:STANDARD
BEGIN:DAYLIGHT
TZOFFSETFROM:+0000
TZOFFSETTO:+0100
TZNAME:BST
DTSTART:20270328T010000
END:DAYLIGHT
BEGIN:STANDARD
TZOFFSETFROM:+0100
TZOFFSETTO:+0000
TZNAME:GMT
DTSTART:20271031T010000
END:STANDARD
END:VTIMEZONE
BEGIN:VEVENT
DTSTART;TZID=Europe/London:20260301T090000
DTEND;TZID=Europe/London:20260301T150000
DTSTAMP:20260422T235535
CREATED:20260112T151824Z
LAST-MODIFIED:20260112T152225Z
UID:8398-1772355600-1772377200@barkwayparishcouncil.gov.uk
SUMMARY:Barkway Antique and Vintage Fair
DESCRIPTION:We welcome you to this warm and friendly antiques and vintage fair. \nWith approximately 20 stalls packed full of antiques\, collectables and vintage items to entice Dealers\, TV & Film Prop Buyers\, Collectors and the General Public. \nFrom Clarice Cliff to Moorcroft\, glass to jewellery we aim to provide a wide range of quality items for our Visitors. \nWith Tearoom. Free parking. \n£1 Admission\, children free. \nSunday 1st March 2026\, 9 am – 3 pm \nVillage Hall\, Cambridge Road\, Barkway Herts SG8 8BS \n 
URL:https://barkwayparishcouncil.gov.uk/event/barkway-antique-and-vintage-fair
CATEGORIES:Local Event
ATTACH;FMTTYPE=image/jpeg:https://barkwayparishcouncil.gov.uk/wp-content/uploads/2026/01/barkway27135.jpg
END:VEVENT
BEGIN:VEVENT
DTSTART;TZID=Europe/London:20260519T193000
DTEND;TZID=Europe/London:20260519T203000
DTSTAMP:20260422T235535
CREATED:20260418T102416Z
LAST-MODIFIED:20260418T103538Z
UID:8557-1779219000-1779222600@barkwayparishcouncil.gov.uk
SUMMARY:ANNUAL PARISH MEETING
DESCRIPTION:ANNUAL PARISH MEETING \nTo be held in the \nBARKWAY PAVILION COMMUNITY ROOM \nOn \nTUESDAY 19th MAY 2026 \nAt 7.15pm for 7.30pm start \nGuest Speaker is Jon Mein \nFor the last 18 months or so\, members of the Barkway Local History Group have been researching what effects the main road running through the village had on Barkway’s development in the c.1750-1900 period. With a fair wind the group’s book should be published later in October. Jon Mein\, the project’s lead\, will provide us with an overview of the aims of the project\, some of the interesting sources which shed new light on our history and a few teasers about what they have found \nRepresentatives from village organisations will be giving reports on their activities over the past year and plans for the forthcoming year. \nDrinks with be served from 7.15pm \n  \nA light buffet with be provided in the interval
URL:https://barkwayparishcouncil.gov.uk/event/annual-parish-meeting-3
LOCATION:Community Room\, Barkway Pavilion
CATEGORIES:Local Event,Parish Council Meetings
ATTACH;FMTTYPE=image/jpeg:https://barkwayparishcouncil.gov.uk/wp-content/uploads/2026/04/Parish-Meeting-2-e1776508866979.jpg
END:VEVENT
BEGIN:VEVENT
DTSTART;TZID=Europe/London:20261101T090000
DTEND;TZID=Europe/London:20261101T150000
DTSTAMP:20260422T235535
CREATED:20260112T152147Z
LAST-MODIFIED:20260112T152205Z
UID:8402-1793523600-1793545200@barkwayparishcouncil.gov.uk
SUMMARY:Barkway Antiques and Vintage Fair
DESCRIPTION:We welcome you to this warm and friendly antiques and vintage fair. \nWith approximately 20 stalls packed full of antiques\, collectables and vintage items to entice Dealers\, TV & Film Prop Buyers\, Collectors and the General Public. \nFrom Clarice Cliff to Moorcroft\, glass to jewellery we aim to provide a wide range of quality items for our Visitors. \nWith Tearoom. Free parking. \n£1 Admission\, children free. \nSunday 1st November 2026\, 9 am – 3 pm \nVillage Hall\, Cambridge Road\, Barkway Herts SG8 8BS
URL:https://barkwayparishcouncil.gov.uk/event/barkway-antiques-and-vintage-fair
CATEGORIES:Local Event
ATTACH;FMTTYPE=image/jpeg:https://barkwayparishcouncil.gov.uk/wp-content/uploads/2026/01/barkway27135.jpg
END:VEVENT
END:VCALENDAR